BEGIN:VCALENDAR
VERSION:2.0
PRODID:-//MHA Georgia - ECPv6.0.12//NONSGML v1.0//EN
CALSCALE:GREGORIAN
METHOD:PUBLISH
X-WR-CALNAME:MHA Georgia
X-ORIGINAL-URL:https://www.mhageorgia.org
X-WR-CALDESC:Events for MHA Georgia
REFRESH-INTERVAL;VALUE=DURATION:PT1H
X-Robots-Tag:noindex
X-PUBLISHED-TTL:PT1H
BEGIN:VTIMEZONE
TZID:America/New_York
BEGIN:DAYLIGHT
TZOFFSETFROM:-0500
TZOFFSETTO:-0400
TZNAME:EDT
DTSTART:20250309T070000
END:DAYLIGHT
BEGIN:STANDARD
TZOFFSETFROM:-0400
TZOFFSETTO:-0500
TZNAME:EST
DTSTART:20251102T060000
END:STANDARD
END:VTIMEZONE
BEGIN:VEVENT
DTSTART;TZID=America/New_York:20250130T110000
DTEND;TZID=America/New_York:20250130T170000
DTSTAMP:20260423T031031
CREATED:20230705T133220Z
LAST-MODIFIED:20250107T170951Z
UID:1657-1738234800-1738256400@www.mhageorgia.org
SUMMARY:Youth Mental Health First Aid
DESCRIPTION:Youth Mental Health First Aid is designed to teach parents\, family members\, caregivers\, teachers\, school staff\, peers\, neighbors\, health and human services workers\, and other caring citizens how to help an adolescent (age 12-18) who is experiencing a mental health or addictions challenge or is in crisis. Youth Mental Health First Aid is primarily designed for adults who regularly interact with young people. The course introduces common mental health challenges for youth\, reviews typical adolescent development\, and teaches a 5-step action plan for how to help young people in both crisis and non-crisis situations. Topics covered include anxiety\, depression\, substance use\, disorders in which psychosis may occur\, disruptive behavior disorders (including AD/HD)\, and eating disorders. \nThere are 2 hours of pre-work required for this course. The pre-work is done on your own time\, and will be emailed to you. If pre-work is not completed by August 3 at midnight\, participant may be notified and removed from course due to waiting list. \nClick here to register now.
URL:https://www.mhageorgia.org/event/youth-mental-health-first-aid-2/
END:VEVENT
END:VCALENDAR