BEGIN:VCALENDAR
VERSION:2.0
PRODID:-//MHA Georgia - ECPv6.0.12//NONSGML v1.0//EN
CALSCALE:GREGORIAN
METHOD:PUBLISH
X-ORIGINAL-URL:https://www.mhageorgia.org
X-WR-CALDESC:Events for MHA Georgia
REFRESH-INTERVAL;VALUE=DURATION:PT1H
X-Robots-Tag:noindex
X-PUBLISHED-TTL:PT1H
BEGIN:VTIMEZONE
TZID:America/New_York
BEGIN:DAYLIGHT
TZOFFSETFROM:-0500
TZOFFSETTO:-0400
TZNAME:EDT
DTSTART:20250309T070000
END:DAYLIGHT
BEGIN:STANDARD
TZOFFSETFROM:-0400
TZOFFSETTO:-0500
TZNAME:EST
DTSTART:20251102T060000
END:STANDARD
END:VTIMEZONE
BEGIN:VEVENT
DTSTART;TZID=America/New_York:20250612T100000
DTEND;TZID=America/New_York:20250612T110000
DTSTAMP:20260422T224811
CREATED:20230928T191227Z
LAST-MODIFIED:20250527T161152Z
UID:1755-1749722400-1749726000@www.mhageorgia.org
SUMMARY:OWL: Workplace Wellness
DESCRIPTION:Maintaining a healthy balance between work and home improves work performance and personal relationships. Through this 60-minute seminar\, learn to explain the difference between mental distress and mental illness\, describe common mood and anxiety disorders and their signs and symptoms\, and demonstrate effective coping strategies for personal & professional settings. \nClick here to register
URL:https://www.mhageorgia.org/event/owl-workplace-wellness-2/
END:VEVENT
END:VCALENDAR