BEGIN:VCALENDAR
VERSION:2.0
PRODID:-//MHA Georgia - ECPv6.0.12//NONSGML v1.0//EN
CALSCALE:GREGORIAN
METHOD:PUBLISH
X-WR-CALNAME:MHA Georgia
X-ORIGINAL-URL:https://www.mhageorgia.org
X-WR-CALDESC:Events for MHA Georgia
REFRESH-INTERVAL;VALUE=DURATION:PT1H
X-Robots-Tag:noindex
X-PUBLISHED-TTL:PT1H
BEGIN:VTIMEZONE
TZID:America/New_York
BEGIN:DAYLIGHT
TZOFFSETFROM:-0500
TZOFFSETTO:-0400
TZNAME:EDT
DTSTART:20250309T070000
END:DAYLIGHT
BEGIN:STANDARD
TZOFFSETFROM:-0400
TZOFFSETTO:-0500
TZNAME:EST
DTSTART:20251102T060000
END:STANDARD
END:VTIMEZONE
BEGIN:VEVENT
DTSTART;TZID=America/New_York:20250731T180000
DTEND;TZID=America/New_York:20250731T190000
DTSTAMP:20260422T202245
CREATED:20240524T141726Z
LAST-MODIFIED:20250624T161547Z
UID:1940-1753984800-1753988400@www.mhageorgia.org
SUMMARY:La Salud Mental 101
DESCRIPTION:Todo el mundo tiene salud mental: se define por cómo pensamos\, sentimos\, nos comportamos y afrontamos las cosas. En este seminario\, aprenderá las diferencias entre el sufrimiento mental y la enfermedad mental\, los trastornos comunes del estado de ánimo y la ansiedad y sus signos y síntomas\, así como estrategias de afrontamiento eficaces para los periodos de estrés. \nRegístrese aquí
URL:https://www.mhageorgia.org/event/la-salud-mental-101/
END:VEVENT
END:VCALENDAR