BEGIN:VCALENDAR
VERSION:2.0
PRODID:-//MHA Georgia - ECPv6.0.12//NONSGML v1.0//EN
CALSCALE:GREGORIAN
METHOD:PUBLISH
X-WR-CALNAME:MHA Georgia
X-ORIGINAL-URL:https://www.mhageorgia.org
X-WR-CALDESC:Events for MHA Georgia
REFRESH-INTERVAL;VALUE=DURATION:PT1H
X-Robots-Tag:noindex
X-PUBLISHED-TTL:PT1H
BEGIN:VTIMEZONE
TZID:America/New_York
BEGIN:DAYLIGHT
TZOFFSETFROM:-0500
TZOFFSETTO:-0400
TZNAME:EDT
DTSTART:20250309T070000
END:DAYLIGHT
BEGIN:STANDARD
TZOFFSETFROM:-0400
TZOFFSETTO:-0500
TZNAME:EST
DTSTART:20251102T060000
END:STANDARD
END:VTIMEZONE
BEGIN:VEVENT
DTSTART;TZID=America/New_York:20250819T100000
DTEND;TZID=America/New_York:20250819T110000
DTSTAMP:20260422T202301
CREATED:20230905T161717Z
LAST-MODIFIED:20250626T182140Z
UID:1733-1755597600-1755601200@www.mhageorgia.org
SUMMARY:OWL: Living With Mental Illness
DESCRIPTION:Most people know someone living with mental illness or may experience it themselves. There are many skills that can be acquired to manage mental illness in daily living. This 1-hour seminar will explore common mental health disorders\, provide effective ways to support someone with a mental illness\, and promote wellness and eliminate stigma associated with mental illness. \nClick here to register now
URL:https://www.mhageorgia.org/event/owl-living-with-mental-illness-5/
END:VEVENT
END:VCALENDAR