BEGIN:VCALENDAR
VERSION:2.0
PRODID:-//MHA Georgia - ECPv6.0.12//NONSGML v1.0//EN
CALSCALE:GREGORIAN
METHOD:PUBLISH
X-ORIGINAL-URL:https://www.mhageorgia.org
X-WR-CALDESC:Events for MHA Georgia
REFRESH-INTERVAL;VALUE=DURATION:PT1H
X-Robots-Tag:noindex
X-PUBLISHED-TTL:PT1H
BEGIN:VTIMEZONE
TZID:America/New_York
BEGIN:DAYLIGHT
TZOFFSETFROM:-0500
TZOFFSETTO:-0400
TZNAME:EDT
DTSTART:20250309T070000
END:DAYLIGHT
BEGIN:STANDARD
TZOFFSETFROM:-0400
TZOFFSETTO:-0500
TZNAME:EST
DTSTART:20251102T060000
END:STANDARD
END:VTIMEZONE
BEGIN:VEVENT
DTSTART;TZID=America/New_York:20251002T140000
DTEND;TZID=America/New_York:20251002T143000
DTSTAMP:20260422T180348
CREATED:20231025T155752Z
LAST-MODIFIED:20250930T160801Z
UID:1771-1759413600-1759415400@www.mhageorgia.org
SUMMARY:LEAP: Adulting 101
DESCRIPTION:Youth and young adults are juggling completing school\, finding a career\, staying healthy\, and trying to maintain a social life now and then. This leaves little time to figure out complicated life choices such as household maintenance\, budgeting and managing credit\, and health and life insurance. Join us for a general overview of things to know as you adapt to gaining independence and becoming an adult. This program is geared toward ages 16-26. Those over 26 are welcome to attend. \nClick here to register now
URL:https://www.mhageorgia.org/event/leap-adulting-101-2/
END:VEVENT
END:VCALENDAR