BEGIN:VCALENDAR
VERSION:2.0
PRODID:-//MHA Georgia - ECPv6.0.12//NONSGML v1.0//EN
CALSCALE:GREGORIAN
METHOD:PUBLISH
X-WR-CALNAME:MHA Georgia
X-ORIGINAL-URL:https://www.mhageorgia.org
X-WR-CALDESC:Events for MHA Georgia
REFRESH-INTERVAL;VALUE=DURATION:PT1H
X-Robots-Tag:noindex
X-PUBLISHED-TTL:PT1H
BEGIN:VTIMEZONE
TZID:America/New_York
BEGIN:DAYLIGHT
TZOFFSETFROM:-0500
TZOFFSETTO:-0400
TZNAME:EDT
DTSTART:20250309T070000
END:DAYLIGHT
BEGIN:STANDARD
TZOFFSETFROM:-0400
TZOFFSETTO:-0500
TZNAME:EST
DTSTART:20251102T060000
END:STANDARD
END:VTIMEZONE
BEGIN:VEVENT
DTSTART;TZID=America/New_York:20251209T120000
DTEND;TZID=America/New_York:20251209T130000
DTSTAMP:20260422T153545
CREATED:20231025T170204Z
LAST-MODIFIED:20250930T165556Z
UID:1781-1765281600-1765285200@www.mhageorgia.org
SUMMARY:OWL: Caregiver Wellness
DESCRIPTION:Caregiving is a role that we play daily to others that are in our lives simply because we care for and love those individuals. Through this 1-hour seminar\, participants will recognize and manage stress as an aspect of self-care and explore strategies to develop or add to your self-care plan. \nClick here to register now
URL:https://www.mhageorgia.org/event/owl-caregiver-wellness-2/
END:VEVENT
END:VCALENDAR