BEGIN:VCALENDAR
VERSION:2.0
PRODID:-//MHA Georgia - ECPv6.0.12//NONSGML v1.0//EN
CALSCALE:GREGORIAN
METHOD:PUBLISH
X-ORIGINAL-URL:https://www.mhageorgia.org
X-WR-CALDESC:Events for MHA Georgia
REFRESH-INTERVAL;VALUE=DURATION:PT1H
X-Robots-Tag:noindex
X-PUBLISHED-TTL:PT1H
BEGIN:VTIMEZONE
TZID:America/New_York
BEGIN:DAYLIGHT
TZOFFSETFROM:-0500
TZOFFSETTO:-0400
TZNAME:EDT
DTSTART:20250309T070000
END:DAYLIGHT
BEGIN:STANDARD
TZOFFSETFROM:-0400
TZOFFSETTO:-0500
TZNAME:EST
DTSTART:20251102T060000
END:STANDARD
END:VTIMEZONE
BEGIN:VEVENT
DTSTART;TZID=America/New_York:20250311T103000
DTEND;TZID=America/New_York:20250311T110000
DTSTAMP:20260423T010047
CREATED:20230524T163059Z
LAST-MODIFIED:20250220T165345Z
UID:1637-1741689000-1741690800@www.mhageorgia.org
SUMMARY:LEAP: Developing Independence
DESCRIPTION:When becoming independent there are many factors you should take into account such as\, the ability to take care of your whole self\, utilizing community resources\, how to navigate the world\, and being able to advocate for the things you want out of life. During our Developing Independence workshop\, you will learn how to increase your self-awareness and manage healthy living\, how to engage in self-advocacy for all areas of your life and learn strategies to set boundaries and maintain healthy relationships while navigating your independence. \nCLICK HERE TO REGISTER \nThis training is session from MHAG’s Leadership Empowerment and Access Program (LEAP)
URL:https://www.mhageorgia.org/event/leap-developing-independence-3/
END:VEVENT
BEGIN:VEVENT
DTSTART;TZID=America/New_York:20250319T180000
DTEND;TZID=America/New_York:20250319T183000
DTSTAMP:20260423T010047
CREATED:20250220T170634Z
LAST-MODIFIED:20250220T170634Z
UID:2111-1742407200-1742409000@www.mhageorgia.org
SUMMARY:Fomentar la Resiliencia en los Jóvenes
DESCRIPTION:Mientras un niño se desarrolla\, su desarrollo socioemocional es tan importante como su crecimiento físico. A través de este seminario\, los participantes aprenderán sobre el desarrollo socioemocional y el impacto del trauma\, identificarán maneras de construir y fortalecer la resiliencia en los niños y demostrarán prácticas de autocuidado para prevenir la fatiga del cuidador. \nRegístrese aquií
URL:https://www.mhageorgia.org/event/fomentar-la-resiliencia-en-los-jovenes/
END:VEVENT
END:VCALENDAR