BEGIN:VCALENDAR
VERSION:2.0
PRODID:-//MHA Georgia - ECPv6.0.12//NONSGML v1.0//EN
CALSCALE:GREGORIAN
METHOD:PUBLISH
X-WR-CALNAME:MHA Georgia
X-ORIGINAL-URL:https://www.mhageorgia.org
X-WR-CALDESC:Events for MHA Georgia
REFRESH-INTERVAL;VALUE=DURATION:PT1H
X-Robots-Tag:noindex
X-PUBLISHED-TTL:PT1H
BEGIN:VTIMEZONE
TZID:America/New_York
BEGIN:DAYLIGHT
TZOFFSETFROM:-0500
TZOFFSETTO:-0400
TZNAME:EDT
DTSTART:20250309T070000
END:DAYLIGHT
BEGIN:STANDARD
TZOFFSETFROM:-0400
TZOFFSETTO:-0500
TZNAME:EST
DTSTART:20251102T060000
END:STANDARD
END:VTIMEZONE
BEGIN:VEVENT
DTSTART;TZID=America/New_York:20250409T183000
DTEND;TZID=America/New_York:20250409T193000
DTSTAMP:20260422T234921
CREATED:20231221T153153Z
LAST-MODIFIED:20250325T142609Z
UID:1810-1744223400-1744227000@www.mhageorgia.org
SUMMARY:OWL: Mental Health 101 WARNER ROBBINS IN PERSON
DESCRIPTION:Everyone has mental health\, it is defined by how we think\, feel\, behave\, and cope. Through this 1-hour seminar\, participants will learn to explain the difference between mental distress and mental illness\, describe common mood and anxiety disorders and their signs and symptoms\, and demonstrate effective coping strategies during period of stress. \nClick here to register now \n  \nThis is an in-person event at the Nola Brantley Library in Warner Robins\, Georgia \n721 Watson Blvd.\nWarner Robins\, GA\, 31093 \n 
URL:https://www.mhageorgia.org/event/owl-mental-health-101-6/
END:VEVENT
BEGIN:VEVENT
DTSTART;TZID=America/New_York:20250410T140000
DTEND;TZID=America/New_York:20250410T143000
DTSTAMP:20260422T234921
CREATED:20240226T140432Z
LAST-MODIFIED:20250325T142730Z
UID:1866-1744293600-1744295400@www.mhageorgia.org
SUMMARY:LEAP: Career Development
DESCRIPTION:If you are wondering about a career or looking to change up your current career and need some guidance\, look no further. Sometimes it is difficult to know where to start but our Career Development 101 workshop will help you assess your current needs and interests in a particular career\, learn skills to successfully prepare yourself to transition into a new career\, and identify resources that will help guide you to various career opportunities. \nThis program is geared towards ages 16-26. Those over 26 are welcome to attend! \nClick here to register now
URL:https://www.mhageorgia.org/event/leap-career-development-2/
END:VEVENT
END:VCALENDAR